BEGIN:VCALENDAR
VERSION:2.0
PRODID:-//Sanibel Barometer - ECPv6.15.16.1//NONSGML v1.0//EN
CALSCALE:GREGORIAN
METHOD:PUBLISH
X-ORIGINAL-URL:https://sanibelbarometer.com
X-WR-CALDESC:Events for Sanibel Barometer
REFRESH-INTERVAL;VALUE=DURATION:PT1H
X-Robots-Tag:noindex
X-PUBLISHED-TTL:PT1H
BEGIN:VTIMEZONE
TZID:America/New_York
BEGIN:DAYLIGHT
TZOFFSETFROM:-0500
TZOFFSETTO:-0400
TZNAME:EDT
DTSTART:20180311T070000
END:DAYLIGHT
BEGIN:STANDARD
TZOFFSETFROM:-0400
TZOFFSETTO:-0500
TZNAME:EST
DTSTART:20181104T060000
END:STANDARD
BEGIN:DAYLIGHT
TZOFFSETFROM:-0500
TZOFFSETTO:-0400
TZNAME:EDT
DTSTART:20190310T070000
END:DAYLIGHT
BEGIN:STANDARD
TZOFFSETFROM:-0400
TZOFFSETTO:-0500
TZNAME:EST
DTSTART:20191103T060000
END:STANDARD
BEGIN:DAYLIGHT
TZOFFSETFROM:-0500
TZOFFSETTO:-0400
TZNAME:EDT
DTSTART:20200308T070000
END:DAYLIGHT
BEGIN:STANDARD
TZOFFSETFROM:-0400
TZOFFSETTO:-0500
TZNAME:EST
DTSTART:20201101T060000
END:STANDARD
END:VTIMEZONE
BEGIN:VEVENT
DTSTART;VALUE=DATE:20190730
DTEND;VALUE=DATE:20190804
DTSTAMP:20260423T164153
CREATED:20190127T060456Z
LAST-MODIFIED:20190127T205720Z
UID:2971-1564516800-1564862399@sanibelbarometer.com
SUMMARY:Ogunquit Art Association 68th Annual Art Auction (and preview) - Barn Gallery\, Ogunquit\, Maine
DESCRIPTION:The Biggest Annual Art Auction in Ogunquit\, Maine and one of the MAJOR cultural events of the summer! Trust us – you don’t want to miss this VERY POPULAR Ogunquit event! \nThe 68th OAA Art Auction is at 7PM (doors open at 6PM) on Saturday\, August 3rd\, 2019 at the Barn Gallery in Ogunquit\, Maine. \n \nBid on a very wide variety of paintings\, graphics\, photographs\, and sculpture by members of the Ogunquit Art Association – Maine’s longest-established artists’ group! \nPREVIEW + PLAN AHEAD: The OAA Art Auction Preview is between Wednesday and Friday\, (July 31st + August 1\, 2) from 11 AM – 5 PM and then on Saturday\, (August 3) from 11 AM – 2 PM. Use this opportunity to preview the work! Pick an artist-designed bid card! Leave a Silent Bid!  \nParticipating OAA artists\, many with national and international reputations\, have created original\, one-of-a-kind bid cards on sale at the Gallery for $30. A bid card purchase includes auction admission\, catalog and refreshments. Plain bid cards for admission are available for $10. \nSome event parking is available in the Barn Gallery parking lot. Auction attendees are encouraged to carpool or park in the Obed’s Lane parking lot behind the Dunaway Center. It is a short trolley ride or a pleasant 10-minute walk from there to the Gallery.  \nLearn more: https://www.barngallery.org/auction.html \n   \nVideo from a prior Ogunquit Art Association Annual Auction at Barn Gallery: \n \n  
URL:https://sanibelbarometer.com/event/ogunquit-art-association-68th-annual-art-auction-and-preview-barn-gallery-ogunquit-maine/
CATEGORIES:Barn Gallery
ORGANIZER;CN="Barn Gallery":MAILTO:oacbarngallery@gmail.com
END:VEVENT
BEGIN:VEVENT
DTSTART;TZID=America/New_York:20190619T180000
DTEND;TZID=America/New_York:20190619T200000
DTSTAMP:20260423T164153
CREATED:20190516T223754Z
LAST-MODIFIED:20190516T223754Z
UID:3306-1560967200-1560974400@sanibelbarometer.com
SUMMARY:Poetry Workshop at Barn Gallery
DESCRIPTION:On Wednesday\, June 19 (at 6 PM) join Priscilla Cookson at Barn Gallery in Ogunquit\, Maine for her workshop: Writing Poetry Inspired by Art & Music! \n \nThis fun event is perfect for both budding and experience wordsmiths – excellent for all levels and all ages! \nDonations welcome \nClick here to learn more about Barn Gallery: barngallery.org.
URL:https://sanibelbarometer.com/event/poetry-workshop-at-barn-gallery/
CATEGORIES:Barn Gallery
ATTACH;FMTTYPE=image/png:https://sanibelbarometer.com/wp-content/uploads/2019/05/poetry_workshop.png
ORGANIZER;CN="Barn Gallery":MAILTO:oacbarngallery@gmail.com
END:VEVENT
BEGIN:VEVENT
DTSTART;TZID=America/New_York:20190614T073000
DTEND;TZID=America/New_York:20190614T210000
DTSTAMP:20260423T164153
CREATED:20190611T235152Z
LAST-MODIFIED:20190611T235152Z
UID:3332-1560497400-1560546000@sanibelbarometer.com
SUMMARY:25th Annual Chamber Music Festival ChoralArt Camerata at Barn Gallery
DESCRIPTION:On Friday\, Jun 14 (at 7:30 pm) Portland’s ChoralArt Camerata singers featuring Robert Russell\, Music Director (and presented by Ogunquit Performing Arts) will  have their first performance in Ogunquit at Barn Gallery! \n \nTickets to this performance available now! $15 in advance; $20 at the door; $5 student. Tickets may be purchased at Barn Gallery\, Ogunquit Camera Shop\, Dunaway Center\, Ogunquit Playhouse Downtown Box Office\, and the  Ogunquit Welcome Center beginning three weeks prior to the performance.  Free parking at the Gallery.  \nCLICK HERE TO PURCHASE TICKETS NOW\n   \nMore About ChoralArt Camerata\nPortland’s ChoralArt Camerata\, under the direction of Robert Russell\, will make their first appearance in Ogunquit in the lovely setting of Barn Gallery.  \nA chamber chorus of about 15 singers\, Camerata features strong singers and independent musicians; their pristine\, resonant sound and utter musicality have garnered regional critical acclaim. Like all the ensembles under the ChoralArt umbrella\, Camerata is dedicated to advancing the tradition of artistic excellence in choral singing. Their program will be listed on this site in the near future. \nAt 15 singers\, Camerata is the smallest of the three ChoralArt ensembles (which also include ChoralArt Masterworks\, a symphonic chorus of 100 voices\, and ChoralArt Singers\, a mixed chorus of about 45 voices.) \n   \n\n\n \n   \nThe Camerata principally performs a cappella repertory from the Renaissance and Modern eras with occasional forays into ethnic and folk music. Favorite composers include Ēriks Ešenvalds\, Morten Lauridsen\, James MacMillan\, Paul Mealor\, David Conte\, and Stephen Paulus. \nMusic Director Robert Russell came to Portland in 1979 as professor of music at the University of Southern Maine and music director of ChoralArt. He concluded a 36-year tenure at USM in 2015 and was named professor emeritus. His time in Portland has been rich\, the highlights many. \nChoralArt has presented numerous concerts with orchestra\, many under the auspices of the Portland Symphony Orchestra. The first Messiah performance in 1982 stunned us all\, as we filled City Hall Auditorium (Merrill’s predecessor) with patrons and glorious music. \nOther notable performances include Verdi’s Requiem\, Mahler’s Symphony No. 2\, Bach’s Mass in B Minor\, Bach’s Passion According to St. John\, Mendelssohn’s Elijah\, and the Brahms Requiem several times\, including a riveting performance in 1991 with distinguished guest conductor Robert Shaw. Several collaborative concerts with Portland Ballet\, including a dynamic Carmina Burana in 2003\, as well as concerts with Friends of the Kotzschmar Organ\, Southern Maine Symphony Orchestra\, USM Wind Ensemble\, Musica de Filia and many other regional organization stand out.  \n   \nPurchase Tickets Now\nCLICK HERE TO PURCHASE TICKETS NOW\n   \n\n\n \n   \nDisclaimer: Information is harvested (at time of publication) from publicly available sources and is deemed reliable but not guaranteed – availability\, prices\, details\, and etc are subject to change or withdrawal at any time and for any reason. All dimensions are approximate and have not been verified. All data should be independently verified. \n   \n\n   \nOgunquit-Area Business Owners: Advertise on Ogunquit Barometer\n \nWORK WITH US! Put your business in front of an audience full of people who LOVE Ogunquit and are planning their next visit to our town — while ALSO supporting coverage of Ogunquit arts and artists! Click Here To Contact Us Today! \n  
URL:https://sanibelbarometer.com/event/25th-annual-chamber-music-festival-choralart-camerata-at-barn-gallery/
CATEGORIES:Barn Gallery,Ogunquit Performing Arts
ATTACH;FMTTYPE=image/jpeg:https://sanibelbarometer.com/wp-content/uploads/2019/06/opa.jpg
ORGANIZER;CN="Ogunquit Performing Arts":MAILTO:opa@ogunquitperformingarts.org
END:VEVENT
BEGIN:VEVENT
DTSTART;TZID=America/New_York:20190525T170000
DTEND;TZID=America/New_York:20190525T193000
DTSTAMP:20260423T164153
CREATED:20190516T223105Z
LAST-MODIFIED:20190516T223105Z
UID:3303-1558803600-1558812600@sanibelbarometer.com
SUMMARY:Gala Reception for Opening Exhibitions at Barn Gallery
DESCRIPTION:The Ogunquit Art Association (OAA) – Maine’s Original Artists’ Group | est. 1928 – is celebrating their 91st Anniversary in 2019 with a variety of exhibitions\, gallery talks\, demonstrations\, workshops\, and more at their Barn Gallery headquarters (located at the corner of Shore Road and Bourne Lane). \n \nThis exciting new season of art exhibitions and programs by artists of the Ogunquit Art Association begins Wednesday\, May 22nd (with an Opening Reception on Saturday\, May 25th from 5-7:30 PM). \nBarn Gallery is located at the Corner of Shore Road & Bourne Lane in Ogunquit\, Maine. \n  \nAt A Glance:\nOpening Exhibitions: May 22 – June 22\nDrawing\nOAA Expressions\nShowcases:  \n\nTanya Fletcher – Painting\nJohn Snyder – Painting\n\nInvited New England Sculptors\nGala Reception: Saturday\, May 25\, 5 – 7:30PM \n  \nAdditional Information\nOpening Exhibitions include ‘OAA Expressions’ — PLUS a themed exhibition: ‘DRAWING’. \nInvited New England Sculptors exhibit in the outdoor Sculpture Court. \nPainters Tanya Fletcher and John Snyder showcase their work in the North Gallery. \nClick here for more information: https://barngallery.org/event/gala-reception-for-opening-exhibitions-at-barn-gallery/ \n  
URL:https://sanibelbarometer.com/event/gala-reception-for-opening-exhibitions-at-barn-gallery/
CATEGORIES:Barn Gallery
ORGANIZER;CN="Barn Gallery":MAILTO:oacbarngallery@gmail.com
END:VEVENT
BEGIN:VEVENT
DTSTART;VALUE=DATE:20190510
DTEND;VALUE=DATE:20190513
DTSTAMP:20260423T164153
CREATED:20190329T223926Z
LAST-MODIFIED:20190329T223926Z
UID:3127-1557446400-1557705599@sanibelbarometer.com
SUMMARY:41st Annual Student Art Show at Barn Gallery in Ogunquit\, Maine
DESCRIPTION:Imagination and energy will fill Barn Gallery to overflowing on May 10th through 12th\, 2019 as students from area elementary\, middle and high schools exhibit their latest works of art. \nThe artistic skill and enthusiasm of the young artists will shine forth in a variety of media and subjects. They are delighted\, as were many of their parents and grandparents before them\, to have their artwork in a “real” gallery. \nView The Exhibition on Saturday and Sunday\, May 11-12 (from 1-4 PM)\, with an opening reception on Friday\, May 10\, (from 4 – 6 PM). \nThe 41st Annual Student Art Show at Barn Gallery is sponsored by Gary W. Tirrell in memory of Norman West. \nLearn More at: https://www.barngallery.org/
URL:https://sanibelbarometer.com/event/41st-annual-student-art-show-at-barn-gallery-in-ogunquit-maine/
CATEGORIES:Barn Gallery
ORGANIZER;CN="Barn Gallery":MAILTO:oacbarngallery@gmail.com
END:VEVENT
END:VCALENDAR